BEGIN:VCALENDAR
VERSION:2.0
PRODID:-//Digital Dentistry Belgium - ECPv6.15.18//NONSGML v1.0//EN
CALSCALE:GREGORIAN
METHOD:PUBLISH
X-ORIGINAL-URL:https://digital-dentistry.be
X-WR-CALDESC:Evenementen voor Digital Dentistry Belgium
REFRESH-INTERVAL;VALUE=DURATION:PT1H
X-Robots-Tag:noindex
X-PUBLISHED-TTL:PT1H
BEGIN:VTIMEZONE
TZID:Europe/Paris
BEGIN:DAYLIGHT
TZOFFSETFROM:+0100
TZOFFSETTO:+0200
TZNAME:CEST
DTSTART:20240331T010000
END:DAYLIGHT
BEGIN:STANDARD
TZOFFSETFROM:+0200
TZOFFSETTO:+0100
TZNAME:CET
DTSTART:20241027T010000
END:STANDARD
BEGIN:DAYLIGHT
TZOFFSETFROM:+0100
TZOFFSETTO:+0200
TZNAME:CEST
DTSTART:20250330T010000
END:DAYLIGHT
BEGIN:STANDARD
TZOFFSETFROM:+0200
TZOFFSETTO:+0100
TZNAME:CET
DTSTART:20251026T010000
END:STANDARD
BEGIN:DAYLIGHT
TZOFFSETFROM:+0100
TZOFFSETTO:+0200
TZNAME:CEST
DTSTART:20260329T010000
END:DAYLIGHT
BEGIN:STANDARD
TZOFFSETFROM:+0200
TZOFFSETTO:+0100
TZNAME:CET
DTSTART:20261025T010000
END:STANDARD
END:VTIMEZONE
BEGIN:VTIMEZONE
TZID:UTC
BEGIN:STANDARD
TZOFFSETFROM:+0000
TZOFFSETTO:+0000
TZNAME:UTC
DTSTART:20210101T000000
END:STANDARD
END:VTIMEZONE
BEGIN:VEVENT
DTSTART;TZID=Europe/Paris:20251211T121500
DTEND;TZID=Europe/Paris:20251211T193000
DTSTAMP:20260424T102749
CREATED:20250206T154529Z
LAST-MODIFIED:20251014T213943Z
UID:10000036-1765455300-1765481400@digital-dentistry.be
SUMMARY:Symposium Digital Dentistry Belgium 2025
DESCRIPTION:Donderdag 11 december 2025 13u\n  \nDrie geaccrediteerde lezingen (20 AE DG2\, 10AE DG5 ) over doorverwijzingen en uitwisseling van gegevens binnen de Digitale Tandheelkunde. Cloud based digitale workflow’s en nieuwe 3D-technologieën in de orthodontie: van theorie naar praktijk\n  \nCommunicatie en Multidisciplinaire Behandelplanning in de Digitale Tandartspraktijk\n11 december 2025  @ 1:00 pm – 7:30 pm\nSalons De Romree\, Grimbergen\n  \n  \n12.15-12.55 – Registratie en broodjeslunch\n12.55-13.00 – Welkom door de DDS ambassadeur Wouter Reybrouck\n13.00-14.30 –Wanneer een patiënt verwijzen voor specialistische diagnose of behandeling?\nSprekers: Prof.Reinhilde Jacobs\, Flavia Preda\, moderator Prof.Lieven Barbier\nTijdens deze duo presentatie wordt stil gestaan bij de beslissingen die in de dagelijkse praktijk moeten genomen worden inzake de nood aan verder advies\, bijkomende diagnose of specialistische behandeling. Aan de hand van diverse casusbesprekingen willen de sprekers een aantal tips aanreiken die de tandarts moeten helpen te beslissen wanneer de eigen grens voor diagnose en therapie voor elke patiënt bereikt is. De lezing moet tonen hoe de tandarts ethisch en voor het welzijn van de patiënt de beste keuzes kan maken. Aan de hand van gevallen wordt getoond wanneer en waarom bijkomend advies vragen de juiste strategie kan zijn. Daarbij wordt ook al een link gelegd naar de verdere digitale communicatie die in de tweede lezing aan bod komt.\n10 AE DG 2 ethische en organisatorische aspecten van het beroep (goedgekeurd)\n14u30-14u45 -Pauze\n14.45-16.15- Digitale Communicatie in de tandartspraktijk \nSprekers: Ellen Wouters\, Jonas Peeters\, Anne-Céline Vanhecke\, moderator Dr.Maarten Glibert\nTijdens deze lezing nemen drie gastsprekers u mee in de wereld van de digitale tandheelkunde\, met een focus op communicatie en behandelplanning binnen een multidisciplinair kader. Aan de hand van multidisciplinaire cases tonen zij hoe digitale communicatie tools bijdragen aan een efficiënte\, nauwkeurige en gepersonaliseerde behandeling voor elke patiënt.\nDe nadruk ligt op de diverse mogelijkheden die digitale communicatie\, ook via eHealth biedt om de samenwerking tussen behandelaars en tandtechnici te versterken. Daarnaast wordt belicht hoe digitale tools reeds vanaf de start van de behandeling de betrokkenheid van de patiënt kunnen verhogen.\nEssentiële thema’s zoals het veilig en privacy bewust uitwisselen van 2D- en 3D-beeldmateriaal en het faciliteren van digitaal overleg met uniforme data voor alle betrokken behandelaars komen aan bod. Aan de hand van klinische casussen wordt geïllustreerd hoe deze digitale tools een duidelijke meerwaarde bieden.\n10 AE DG 2 ethische en organisatorische aspecten van het beroep (goedgekeurd)\n16.15-16.30 Pauze\n16.30 -18.00  – Cloud based digitale workflows en nieuwe 3D-technologieën in de orthodontie: van theorie naar praktijk\, moderator Prof.Lieven Barbier\nSprekers:  Flavia Preda\, Jeroen Christiaens\, Isabelle Savoye\n \nTijdens deze lezing nemen we u mee in de snel evoluerende wereld van de orthodontie\, met een bijzondere focus op digitale innovaties en hun integratie in de dagelijkse praktijk. Een belangrijk aandachtspunt is het gebruik van 3D-technologieën binnen de orthodontie.\nDeze lezing zal zich richten op de 3D toepassingen zoals surgical orthodontics\, planning en vervaardigen van surgical guides. Het ontwerpen van orthodontische apparaten om ze nadien via 3D printing te laten vervaardigen. We zullen de voor- en nadelen van verschillende workflows bespreken\, met name de vergelijking tussen de ‘full in-house’ en ‘semi in-house’ workflows voor het produceren van aligners en indirect bonding trays.\n10AE deelgebied 5 orthodontie (goedgekeurd)\n\n18.00 – 19.30 – Walking dinner Digital Dentistry Belgium (na registratie)\n 
URL:https://digital-dentistry.be/event/symposium-2025/
LOCATION:Salons De Romree\, Beiaardlaan 31\, Grimbergen\, Vlaams Brabant\, 1850\, Belgium
CATEGORIES:Symposium
ATTACH;FMTTYPE=image/jpeg:https://digital-dentistry.be/wp-content/uploads/2025/02/Communicatie-Multidisciplinaire-Behandelplanning-in-de-Digitale-Tandartspraktijk-1.jpg
ORGANIZER;CN="Digital Dentistry Belgium vzw":MAILTO:info@digital-dentistry.be
END:VEVENT
BEGIN:VEVENT
DTSTART;TZID=UTC:20241107T133000
DTEND;TZID=UTC:20241107T173000
DTSTAMP:20260424T102750
CREATED:20240325T105950Z
LAST-MODIFIED:20241020T150525Z
UID:10000033-1730986200-1731000600@digital-dentistry.be
SUMMARY:Symposium DDB: Praktische parels in de digitale orthodontie
DESCRIPTION:WEGENS OMSTANDIGHEDEN WORDT HET SYMPOSIUM GEANNULEERD\nIntegratie van digitale workflow’s en nieuwe 3D-technologieën in de orthodontische praktijk: van theorie naar praktijk\nDe vooruitgang in digitale algemene tandheelkunde wordt snel gevolgd door ontwikkelingen in digitale orthodontie. Bij de confrontatie met geavanceerde nieuwe technologieën zijn clinici enerzijds enthousiast om ze te integreren in hun eigen praktijk\, terwijl anderzijds ze terughoudend zijn om hun manier van werken conceptueel of materieel te veranderen. \nDeze lezing is bedoeld om collega’s te ondersteunen die van plan zijn digitale workflows in hun praktijk te implementeren\, zodat ze de meest toegankelijke startpunten begrijpen en beter kunnen inschatten wat het beste bij hen past en wat het meest gunstig zou zijn voor hun praktijk. Tegelijkertijd kunnen orthodontisten die al met digitale tools werken\, profiteren van deze lezing door manieren te leren om hun digitale protocollen te verbeteren. \n14u: Deel 1:  \n\n\n\nIn deze lezing zullen we de opkomende trends en technologieën in de orthodontische wereld verkennen\, met de nadruk op digitale orthodontie en de integratie ervan in de dagelijkse praktijk. We zullen dieper ingaan op hoe digitale tools en software het diagnostische proces kunnen verbeteren\, patiëntervaringen kunnen transformeren en behandelresultaten kunnen optimaliseren \nSprekers Flavia Preda\, Jeroen Christiaens\, Jonathan Luyten \nAccreditering Aangevraagd DG 5 10AE\n\n\n\n\n\n\n15u30: Pauze \n16u: Deel 2:  \n\n\n\nDeze lezing zal zich richten op de  3D toepassingen zoals surgical orthodontics\, planning en vervaardigen van surgical guides. Het ontwerpen van orthodontische apparaten om ze nadien via 3D printing te laten vervaardigen. We zullen de voor- en nadelen van verschillende workflows bespreken\, met name de vergelijking tussen de ‘full in-house’ en ‘semi in-house’ workflows voor het produceren van aligners en indirect bonding trays. \nSprekers: Isabelle Savoye\, Flavia Preda\, Jeroen Christiaens\, Jonathan Luyten \nAccreditering Aangevraagd DG 5 10 AE\n\n\n\n  \n17u30: Afsluitende Receptie \n 
URL:https://digital-dentistry.be/event/symposium-ddb-praktische-parels-in-de-digitale-orthodontie/
LOCATION:Congrescentrum Lamot\, Van Beethovenstraat 8-10\, Mechelen\, Vlaams Brabant\, 2800\, België
CATEGORIES:Symposium
ATTACH;FMTTYPE=image/jpeg:https://digital-dentistry.be/wp-content/uploads/2024/03/Flyer-DDB-7-november-GEANNULEERD.jpg
ORGANIZER;CN="Digital Dentistry Belgium vzw":MAILTO:info@digital-dentistry.be
END:VEVENT
BEGIN:VEVENT
DTSTART;TZID=UTC:20221208T133000
DTEND;TZID=UTC:20221208T173000
DTSTAMP:20260424T102750
CREATED:20220131T172956Z
LAST-MODIFIED:20221101T210323Z
UID:10000019-1670506200-1670520600@digital-dentistry.be
SUMMARY:Symposium DDB: Digital Dentistry in de praktijk
DESCRIPTION:Spreker : Uli Hauschild\nDigital Dentistry in de praktijk: Fusion Dentistry  \n14u: Deel 1: Fusion Dentistry – Praktijkorganisatie  \n\n\n\nHet state-of-the-art tandartsenteam moet meebewegen met de nieuwe technologieën. Een praktijk digitaliseren betekent niet alleen een financiële investering\, maar vereist ook praktijkreorganisatie  met nadruk op opleiding en teamwork en oog voor de digitale workflow. De patiënt zit vanaf nu immers niet steeds meer in de stoel\, maar staat ook vaker op het scherm. Het multidisciplinaire team moet via diverse virtuele behandelopties een patiënt-specifiek voorstel uitwerken. Deze lezing leert tandartsen hoe ze kunnen starten met de digitale reorganisatie van de tandartspraktijk en hun team hierin kunnen begeleiden. Deze lezing zal in het Engels gegeven worden. \nAccreditering Goedgekeurd DG 2 10AE\n\n\n\n  \n16u: Deel 2:  \n\n\n\nFusion Dentistry – Casus voorstelling  Uli Hauschild en paneldiscussie Reinhilde Jacobs\, Lieven Barbier\, Retief Wessels\, Ben Vernaillen\n\n\n\n\n\n\nUli Hauschild zal verschillende casussen voorstellen die besproken zullen worden met de deelnemers en het aanwezige panel. Door een interactief debat zal de deelnemer meer inzicht krijgen in het opzetten van een digitale workflow in een moderne tandartsenpraktijk. De mogelijke hindernissen en pijnpunten in de digitale workflow zullen met de deelnemers en het panel besproken worden vanuit verschillende oogpunten binnen de tandheelkunde. \n                                                                     \nAccreditering goedgekeurd DG 0 10 AE\n\n\n\n  \n17u30: Afsluitende Receptie \nUli Hauschild behaalde zijn graad in tandtechniek in Duitsland en runt met succes zijn laboratorium in Sanremo\, Italië. Hij is gespecialiseerd in de digitale workflow voor esthetische en functionele prothese via een combinatie van geleide implantaatplaatsing en digitale tandheelkunde.  Hij doceert in postgraduaat en master programma’s aan de universiteiten van Genua\, Frankfurt\, Padua\, Toscane\, Milaan en Varese en is spreker voor talrijke internationale organisaties. Hij was ook mede oprichter en vice president van de Digital Dentistry Society DDS
URL:https://digital-dentistry.be/event/symposium-ddb-fusion-dentistry/
LOCATION:Iers College Leuven\, Janseniusstraat 1\, Leuven\, 3000\, België
CATEGORIES:Symposium
ATTACH;FMTTYPE=image/jpeg:https://digital-dentistry.be/wp-content/uploads/2022/01/Uli_Hauschild.jpg
ORGANIZER;CN="Digital Dentistry Belgium vzw":MAILTO:info@digital-dentistry.be
END:VEVENT
BEGIN:VEVENT
DTSTART;TZID=UTC:20221013T133000
DTEND;TZID=UTC:20221013T173000
DTSTAMP:20260424T102750
CREATED:20220812T074527Z
LAST-MODIFIED:20220922T082306Z
UID:10000015-1665667800-1665682200@digital-dentistry.be
SUMMARY:Workshop : Starten met de digitale afdruk
DESCRIPTION:Deze workshop is enkel beschikbaar voor leden. Indien je lid bent\, gelieve in te loggen via https://digital-dentistry.be/mijn-account/.   Kostprijs 220 EUR voor leden\, 150 EUR voor stagiairs.\nStagiair tandartsen kunnen een kortingscode aanvragen bij inschrijving.\nSprekers : Prof. Lieven Barbier en Justine Colle\n  \n13u30: Ontvangst  \n14u-15u30: Deel 1 Lezing : Starten met de digitale afdruk  \n\n\n\n\nIn de voorbije jaren kenden de verschillende intra-orale scanners een enorme technologische evolutie\, waardoor het lijkt dat ze klaar zijn om in dit decennium de conventionele afdruk en klassieke workflow grotendeels te vervangen. Aan deze hands-on training koppelen we een overzicht van verschillende intra-orale scanners\, hoe een keuze te maken tussen de toestellen en hoe de verschillende restauratieve indicaties\, van eenvoudig tot complex\, uit te werken in een digitale workflow op basis van objectieve wetenschappelijke informatie.\nMevr. Justine Colle  \nTandarts UGent (2011)\, Specialist in de Restauratieve Tandheelkunde KU Leuven (2014)\, Staflid dienst Tandheelkunde en Stagecentrum KU Leuven van het AZ St-Jan Brugge. Bestuurslid PUC West-Vlaanderen. Lesgever voor het Instituut voor Osseointegratie (sinds 2015). Daarnaast ook werkzaam in privé praktijk in Waregem \nProf. Dr. Lieven Barbier \nLicentiaat in de Tandheelkunde KU Leuven (1989)\, specialist in de Prothetische Tandheelkunde (1993)\, doctor in de Medische Wetenschappen KU Leuven (1995)\, deeltijds wetenschappelijk mede­werker aan de afdeling Prothetische Tandheelkunde KU Leuven (1994-2000). Medeverantwoordelijk voor de opleiding in de Prothetische Tandheelkunde in het Stagecentrum Tandheelkunde van het AZ St-Jan Brugge. Daarnaast werkzaam in eigen praktijk te Brugge. Voorzitter PUC West-Vlaanderen en Ondervoorzitter LUTV. Gewezen voorzitter van de VAPR (Vereniging Assistenten Prothetische en Restauratieve Tandheelkunde KU Leuven). Bestuurslid Digital Dentistry Belgium. Lesgever voor het Instituut voor Osseointegratie (sinds 2001). Gastdocent aan KU Leuven (sinds 2018). \n \n\n\n\n  \n15u30: Pauze \n16u Deel 2: Workshop \n\n\n\nDe Deelnemers krijgen de mogelijkheid van  intra orale scanners uit te testen van verschillende merken onder begeleiding van ervaren tandartsen en product specialisten. Dit gebeurt in kleine groepen. \nAccreditering goedgekeurd DG 7 20 AE\n\n\n\n\n\n\n  \n17u30: Afsluitende Receptie \n 
URL:https://digital-dentistry.be/event/workshop-starten-met-de-digitale-afdruk-non-members/
LOCATION:De Waerboom\, Jozef Mertensstraat 140\, Groot-Bijgaarden\, Vlaams Brabant\, 1702
CATEGORIES:Symposium
ATTACH;FMTTYPE=image/jpeg:https://digital-dentistry.be/wp-content/uploads/2022/06/justine-en-lieven.jpg
ORGANIZER;CN="Digital Dentistry Belgium vzw":MAILTO:info@digital-dentistry.be
END:VEVENT
END:VCALENDAR